BEGIN:VCALENDAR
VERSION:2.0
PRODID:-//City of Morton, MN - ECPv6.15.20//NONSGML v1.0//EN
CALSCALE:GREGORIAN
METHOD:PUBLISH
X-WR-CALNAME:City of Morton, MN
X-ORIGINAL-URL:https://mortonmn.gov
X-WR-CALDESC:Events for City of Morton, MN
REFRESH-INTERVAL;VALUE=DURATION:PT1H
X-Robots-Tag:noindex
X-PUBLISHED-TTL:PT1H
BEGIN:VTIMEZONE
TZID:America/Chicago
BEGIN:DAYLIGHT
TZOFFSETFROM:-0600
TZOFFSETTO:-0500
TZNAME:CDT
DTSTART:20230312T080000
END:DAYLIGHT
BEGIN:STANDARD
TZOFFSETFROM:-0500
TZOFFSETTO:-0600
TZNAME:CST
DTSTART:20231105T070000
END:STANDARD
BEGIN:DAYLIGHT
TZOFFSETFROM:-0600
TZOFFSETTO:-0500
TZNAME:CDT
DTSTART:20240310T080000
END:DAYLIGHT
BEGIN:STANDARD
TZOFFSETFROM:-0500
TZOFFSETTO:-0600
TZNAME:CST
DTSTART:20241103T070000
END:STANDARD
BEGIN:DAYLIGHT
TZOFFSETFROM:-0600
TZOFFSETTO:-0500
TZNAME:CDT
DTSTART:20250309T080000
END:DAYLIGHT
BEGIN:STANDARD
TZOFFSETFROM:-0500
TZOFFSETTO:-0600
TZNAME:CST
DTSTART:20251102T070000
END:STANDARD
BEGIN:DAYLIGHT
TZOFFSETFROM:-0600
TZOFFSETTO:-0500
TZNAME:CDT
DTSTART:20260308T080000
END:DAYLIGHT
BEGIN:STANDARD
TZOFFSETFROM:-0500
TZOFFSETTO:-0600
TZNAME:CST
DTSTART:20261101T070000
END:STANDARD
BEGIN:DAYLIGHT
TZOFFSETFROM:-0600
TZOFFSETTO:-0500
TZNAME:CDT
DTSTART:20270314T080000
END:DAYLIGHT
BEGIN:STANDARD
TZOFFSETFROM:-0500
TZOFFSETTO:-0600
TZNAME:CST
DTSTART:20271107T070000
END:STANDARD
END:VTIMEZONE
BEGIN:VEVENT
DTSTART;TZID=America/Chicago:20260416T130000
DTEND;TZID=America/Chicago:20260416T190000
DTSTAMP:20260423T202301
CREATED:20260310T175352Z
LAST-MODIFIED:20260310T175352Z
UID:10000050-1776344400-1776366000@mortonmn.gov
SUMMARY:Chuck Robinson’s Blood Drive
DESCRIPTION:This will be the Annual Chuck Robinson Blood Drive and will take place at the Morton Fire Hall. Come on out and show your support not only to the American Red Cross but also to the Robinson family. Let’s honor all of the years of service that Chuck gave to the Morton Fire Department.
URL:https://mortonmn.gov/event/chuck-robinsons-blood-drive-2/
LOCATION:Morton Fire Hall\, Main Street\, Morton\, MN\, 56270\, United States
CATEGORIES:Blood Drive
ATTACH;FMTTYPE=image/png:https://mortonmn.gov/wp-content/uploads/2026/03/ca2373f8-1.png
END:VEVENT
BEGIN:VEVENT
DTSTART;TZID=America/Chicago:20260408T183000
DTEND;TZID=America/Chicago:20260408T193000
DTSTAMP:20260423T202301
CREATED:20260310T182424Z
LAST-MODIFIED:20260310T182424Z
UID:10000052-1775673000-1775676600@mortonmn.gov
SUMMARY:City Council Meeting
DESCRIPTION:
URL:https://mortonmn.gov/event/city-council-meeting-27/
LOCATION:City Hall\, 220 W 2nd Street\, Morton\, MN\, 56073\, United States
CATEGORIES:City Council Meeting
END:VEVENT
BEGIN:VEVENT
DTSTART;TZID=America/Chicago:20260404T090000
DTEND;TZID=America/Chicago:20260404T100000
DTSTAMP:20260423T202301
CREATED:20260310T173032Z
LAST-MODIFIED:20260310T173032Z
UID:10000049-1775293200-1775296800@mortonmn.gov
SUMMARY:Easter Egg Hunt 2026
DESCRIPTION:Looking for a fun way to kick off Easter weekend with your young children? Come out to the Morton City Park the Saturday before Easter for an egg hunt sponsored by the Morton Fire Department. \n2026 Easter Egg Hunt Details\nOn Saturday\, April 4\, 2026 at 9:00AM the Easter Egg Hunt will be held at the Morton City Park. The Morton Fire Department will have Easter eggs scattered throughout the lawn ready for children to run and pick up as many eggs as they can. Once all the eggs have been collected\, everyone will gather back under the shelter for announcements from the fire department. Children will trade in their empty (yes we said\, empty!) eggs for a goodie bag from a City of Morton Firefighter. \nAlthough most eggs are empty\, the firefighters enjoy making it entertaining for the parents and adults volunteering at the egg hunt. Rumor has it in the past there were special eggs that had cash prizes in them in years past! Are they doing that again? Who knows! You’ll have to come out and see for yourself. \nHistory of the Morton Easter Egg Hunt\nOriginally the City of Morton Easter Egg Hunt started out as a Morton Lions and Lioness organization planned and executed event that included a breakfast at the Catholic Church. We are unsure of when it first originated. Maybe the town historians could shed some light on this for us curious ones? Nonetheless\, once the Morton Lions organizations sunsetted\, the Morton Fire Department graciously took over the Easter Egg Hunt for our community youth and families. \nSee You and Your Littles There!\nThe Morton Fire Department volunteers look forward to seeing your little ones at this year’s Easter Egg Hunt! It goes without saying\, but remember that it is spring in Minnesota and the event happens outside. Make sure to dress appropriately and be there promptly at 9:00 am on April 4\, 2026. We’d hate for you to trek your children down to the hunt for all the eggs to already be picked up!
URL:https://mortonmn.gov/event/easter-egg-hunt-2026/
LOCATION:Morton City Park\, Morton\, MN\, 56270\, United States
ATTACH;FMTTYPE=image/jpeg:https://mortonmn.gov/wp-content/uploads/2026/03/20260304_174407-scaled.jpg
END:VEVENT
BEGIN:VEVENT
DTSTART;TZID=America/Chicago:20260311T183000
DTEND;TZID=America/Chicago:20260311T193000
DTSTAMP:20260423T202301
CREATED:20260310T181045Z
LAST-MODIFIED:20260310T181045Z
UID:10000051-1773253800-1773257400@mortonmn.gov
SUMMARY:City Council Meeting
DESCRIPTION:
URL:https://mortonmn.gov/event/city-council-meeting-26/
LOCATION:City Hall\, 220 W 2nd Street\, Morton\, MN\, 56073\, United States
CATEGORIES:City Council Meeting
END:VEVENT
BEGIN:VEVENT
DTSTART;TZID=America/Chicago:20251210T183000
DTEND;TZID=America/Chicago:20251210T193000
DTSTAMP:20260423T202301
CREATED:20241204T174203Z
LAST-MODIFIED:20241204T174203Z
UID:10000038-1765391400-1765395000@mortonmn.gov
SUMMARY:City Council Meeting
DESCRIPTION:The City Council holds regular meetings the second Wednesday of each month at 6:30PM at the Morton City Hall. All City Council meetings are recorded.
URL:https://mortonmn.gov/event/city-council-meeting-24/
LOCATION:City Hall\, 220 W 2nd Street\, Morton\, MN\, 56073\, United States
CATEGORIES:City Council Meeting
END:VEVENT
BEGIN:VEVENT
DTSTART;TZID=America/Chicago:20251126T183000
DTEND;TZID=America/Chicago:20251126T193000
DTSTAMP:20260423T202301
CREATED:20251124T185528Z
LAST-MODIFIED:20251124T185555Z
UID:10000047-1764181800-1764185400@mortonmn.gov
SUMMARY:City Council Meeting
DESCRIPTION:
URL:https://mortonmn.gov/event/city-council-meeting-25/
LOCATION:City Hall\, 220 W 2nd Street\, Morton\, MN\, 56073\, United States
CATEGORIES:City Council Meeting
END:VEVENT
BEGIN:VEVENT
DTSTART;TZID=America/Chicago:20251112T183000
DTEND;TZID=America/Chicago:20251112T193000
DTSTAMP:20260423T202301
CREATED:20241204T174142Z
LAST-MODIFIED:20241204T174142Z
UID:10000037-1762972200-1762975800@mortonmn.gov
SUMMARY:City Council Meeting
DESCRIPTION:The City Council holds regular meetings the second Wednesday of each month at 6:30PM at the Morton City Hall. All City Council meetings are recorded.
URL:https://mortonmn.gov/event/city-council-meeting-23/
LOCATION:City Hall\, 220 W 2nd Street\, Morton\, MN\, 56073\, United States
CATEGORIES:City Council Meeting
END:VEVENT
BEGIN:VEVENT
DTSTART;TZID=America/Chicago:20251008T183000
DTEND;TZID=America/Chicago:20251008T193000
DTSTAMP:20260423T202301
CREATED:20241204T174118Z
LAST-MODIFIED:20241204T174118Z
UID:10000036-1759948200-1759951800@mortonmn.gov
SUMMARY:City Council Meeting
DESCRIPTION:The City Council holds regular meetings the second Wednesday of each month at 6:30PM at the Morton City Hall. All City Council meetings are recorded.
URL:https://mortonmn.gov/event/city-council-meeting-22/
LOCATION:City Hall\, 220 W 2nd Street\, Morton\, MN\, 56073\, United States
CATEGORIES:City Council Meeting
END:VEVENT
BEGIN:VEVENT
DTSTART;TZID=America/Chicago:20250910T183000
DTEND;TZID=America/Chicago:20250910T193000
DTSTAMP:20260423T202301
CREATED:20241204T174054Z
LAST-MODIFIED:20241204T174054Z
UID:10000035-1757529000-1757532600@mortonmn.gov
SUMMARY:City Council Meeting
DESCRIPTION:The City Council holds regular meetings the second Wednesday of each month at 6:30PM at the Morton City Hall. All City Council meetings are recorded.
URL:https://mortonmn.gov/event/city-council-meeting-21/
LOCATION:City Hall\, 220 W 2nd Street\, Morton\, MN\, 56073\, United States
CATEGORIES:City Council Meeting
END:VEVENT
BEGIN:VEVENT
DTSTART;TZID=America/Chicago:20250813T183000
DTEND;TZID=America/Chicago:20250813T193000
DTSTAMP:20260423T202301
CREATED:20241204T174029Z
LAST-MODIFIED:20241204T174029Z
UID:10000034-1755109800-1755113400@mortonmn.gov
SUMMARY:City Council Meeting
DESCRIPTION:The City Council holds regular meetings the second Wednesday of each month at 6:30PM at the Morton City Hall. All City Council meetings are recorded.
URL:https://mortonmn.gov/event/city-council-meeting-20/
LOCATION:City Hall\, 220 W 2nd Street\, Morton\, MN\, 56073\, United States
CATEGORIES:City Council Meeting
END:VEVENT
BEGIN:VEVENT
DTSTART;TZID=America/Chicago:20250709T183000
DTEND;TZID=America/Chicago:20250709T193000
DTSTAMP:20260423T202301
CREATED:20241204T174004Z
LAST-MODIFIED:20241204T174004Z
UID:10000033-1752085800-1752089400@mortonmn.gov
SUMMARY:City Council Meeting
DESCRIPTION:The City Council holds regular meetings the second Wednesday of each month at 6:30PM at the Morton City Hall. All City Council meetings are recorded.
URL:https://mortonmn.gov/event/city-council-meeting-19/
LOCATION:City Hall\, 220 W 2nd Street\, Morton\, MN\, 56073\, United States
CATEGORIES:City Council Meeting
END:VEVENT
BEGIN:VEVENT
DTSTART;TZID=America/Chicago:20250611T183000
DTEND;TZID=America/Chicago:20250611T193000
DTSTAMP:20260423T202301
CREATED:20241204T173942Z
LAST-MODIFIED:20241204T173942Z
UID:10000032-1749666600-1749670200@mortonmn.gov
SUMMARY:City Council Meeting
DESCRIPTION:The City Council holds regular meetings the second Wednesday of each month at 6:30PM at the Morton City Hall. All City Council meetings are recorded.
URL:https://mortonmn.gov/event/city-council-meeting-18/
LOCATION:City Hall\, 220 W 2nd Street\, Morton\, MN\, 56073\, United States
CATEGORIES:City Council Meeting
END:VEVENT
BEGIN:VEVENT
DTSTART;TZID=America/Chicago:20250514T183000
DTEND;TZID=America/Chicago:20250514T193000
DTSTAMP:20260423T202301
CREATED:20241204T173916Z
LAST-MODIFIED:20241204T173916Z
UID:10000031-1747247400-1747251000@mortonmn.gov
SUMMARY:City Council Meeting
DESCRIPTION:The City Council holds regular meetings the second Wednesday of each month at 6:30PM at the Morton City Hall. All City Council meetings are recorded.
URL:https://mortonmn.gov/event/city-council-meeting-17/
LOCATION:City Hall\, 220 W 2nd Street\, Morton\, MN\, 56073\, United States
CATEGORIES:City Council Meeting
END:VEVENT
BEGIN:VEVENT
DTSTART;TZID=America/Chicago:20250409T183000
DTEND;TZID=America/Chicago:20250409T193000
DTSTAMP:20260423T202301
CREATED:20241204T173852Z
LAST-MODIFIED:20241204T173852Z
UID:10000030-1744223400-1744227000@mortonmn.gov
SUMMARY:City Council Meeting
DESCRIPTION:The City Council holds regular meetings the second Wednesday of each month at 6:30PM at the Morton City Hall. All City Council meetings are recorded.
URL:https://mortonmn.gov/event/city-council-meeting-16/
LOCATION:City Hall\, 220 W 2nd Street\, Morton\, MN\, 56073\, United States
CATEGORIES:City Council Meeting
END:VEVENT
BEGIN:VEVENT
DTSTART;TZID=America/Chicago:20250405T130000
DTEND;TZID=America/Chicago:20250405T150000
DTSTAMP:20260423T202301
CREATED:20250325T152239Z
LAST-MODIFIED:20250325T152239Z
UID:10000043-1743858000-1743865200@mortonmn.gov
SUMMARY:Community Feedback Session
DESCRIPTION:Join Us for a Community Feedback Session – April 5th! \nThe City of Morton invites all residents to a Community Feedback Session on Friday\, April 5th from 1–3 PM at the Morton Fire Hall. This is your chance to share your voice and help shape the future of our community! \nWe’ll be discussing important topics that impact all of us\, including: \n\n\nIdeas for home improvement support and incentives \n\n\nEnhancing landscaping and beautification around town \n\n\nImproving and maintaining our public spaces \n\n\nReviewing and strengthening the City’s emergency preparedness plan \n\n\nYour input will directly influence future projects and priorities in Morton. Whether you have specific suggestions or just want to listen in and learn\, everyone is welcome. \nThis event is held in partnership with the University of Minnesota and the City of Morton\, working together to support a vibrant\, resilient\, and well-planned community. \nLight refreshments will be provided\, so bring a neighbor and enjoy a casual\, productive afternoon focused on making Morton even better. \nWe look forward to hearing from you — because building a stronger community starts with you!
URL:https://mortonmn.gov/event/community-feedback-session/
LOCATION:Morton Fire Hall\, Main Street\, Morton\, MN\, 56270\, United States
ATTACH;FMTTYPE=image/png:https://mortonmn.gov/wp-content/uploads/2025/03/morton-april-engagement-facebook-format.png
END:VEVENT
BEGIN:VEVENT
DTSTART;TZID=America/Chicago:20250312T183000
DTEND;TZID=America/Chicago:20250312T193000
DTSTAMP:20260423T202301
CREATED:20241204T173828Z
LAST-MODIFIED:20241204T173828Z
UID:10000029-1741804200-1741807800@mortonmn.gov
SUMMARY:City Council Meeting
DESCRIPTION:The City Council holds regular meetings the second Wednesday of each month at 6:30PM at the Morton City Hall. All City Council meetings are recorded.
URL:https://mortonmn.gov/event/city-council-meeting-15/
LOCATION:City Hall\, 220 W 2nd Street\, Morton\, MN\, 56073\, United States
CATEGORIES:City Council Meeting
END:VEVENT
BEGIN:VEVENT
DTSTART;TZID=America/Chicago:20250301T140000
DTEND;TZID=America/Chicago:20250301T160000
DTSTAMP:20260423T202301
CREATED:20250220T143002Z
LAST-MODIFIED:20250220T143214Z
UID:10000041-1740837600-1740844800@mortonmn.gov
SUMMARY:Flooding Prevention Open House
DESCRIPTION:Have questions about flooding prevention and planning? Meet graduate students from the University of Minnesota here to listen to your stories and questions about flooding prevention and planning. \nWhen: Saturday\, March 1st 2pm – 4pm\nWhere: Morton City Hall
URL:https://mortonmn.gov/event/flooding-prevention-open-house/
LOCATION:Morton City Hall\, 192 Adams Ave\, Morton\, WA\, 98356\, United States
CATEGORIES:Other
ATTACH;FMTTYPE=image/png:https://mortonmn.gov/wp-content/uploads/2025/02/facebook-save-the-date.png
END:VEVENT
BEGIN:VEVENT
DTSTART;TZID=America/Chicago:20250212T183000
DTEND;TZID=America/Chicago:20250212T193000
DTSTAMP:20260423T202301
CREATED:20241204T173802Z
LAST-MODIFIED:20241204T173802Z
UID:10000028-1739385000-1739388600@mortonmn.gov
SUMMARY:City Council Meeting
DESCRIPTION:The City Council holds regular meetings the second Wednesday of each month at 6:30PM at the Morton City Hall. All City Council meetings are recorded.
URL:https://mortonmn.gov/event/city-council-meeting-14/
LOCATION:City Hall\, 220 W 2nd Street\, Morton\, MN\, 56073\, United States
CATEGORIES:City Council Meeting
END:VEVENT
BEGIN:VEVENT
DTSTART;TZID=America/Chicago:20250108T183000
DTEND;TZID=America/Chicago:20250108T193000
DTSTAMP:20260423T202301
CREATED:20241204T173732Z
LAST-MODIFIED:20241204T173732Z
UID:10000027-1736361000-1736364600@mortonmn.gov
SUMMARY:City Council Meeting
DESCRIPTION:The City Council holds regular meetings the second Wednesday of each month at 6:30PM at the Morton City Hall. All City Council meetings are recorded.
URL:https://mortonmn.gov/event/city-council-meeting-13/
LOCATION:City Hall\, 220 W 2nd Street\, Morton\, MN\, 56073\, United States
CATEGORIES:City Council Meeting
END:VEVENT
BEGIN:VEVENT
DTSTART;TZID=America/Chicago:20241211T183000
DTEND;TZID=America/Chicago:20241211T193000
DTSTAMP:20260423T202301
CREATED:20240320T050222Z
LAST-MODIFIED:20240320T050222Z
UID:10000012-1733941800-1733945400@mortonmn.gov
SUMMARY:City Council Meeting
DESCRIPTION:The City Council holds regular meetings the second Wednesday of each month at 6:30PM at the Morton City Hall. All City Council meetings are recorded.
URL:https://mortonmn.gov/event/city-council-meeting-12/
LOCATION:City Hall\, 220 W 2nd Street\, Morton\, MN\, 56073\, United States
CATEGORIES:City Council Meeting
END:VEVENT
BEGIN:VEVENT
DTSTART;TZID=America/Chicago:20241122T170000
DTEND;TZID=America/Chicago:20241122T200000
DTSTAMP:20260423T202301
CREATED:20240320T055008Z
LAST-MODIFIED:20240320T055112Z
UID:10000023-1732294800-1732305600@mortonmn.gov
SUMMARY:Fireman's Steak Fry
DESCRIPTION:Let us cook for you this Friday! Come on down to the Morton Fire Hall. \nServing Ribeye Steak\, baked potato\, dinner roll and salad. Lemonade and water provided. Serving from 5-8pm. Raffle drawing starts at 8pm. \nThe Korner bar will be there as well to serve you adult beverages.
URL:https://mortonmn.gov/event/firemans-steak-fry/
LOCATION:Morton Fire Hall\, Main Street\, Morton\, MN\, 56270\, United States
ATTACH;FMTTYPE=image/jpeg:https://mortonmn.gov/wp-content/uploads/2024/03/mfd.jpeg
END:VEVENT
BEGIN:VEVENT
DTSTART;TZID=America/Chicago:20241113T183000
DTEND;TZID=America/Chicago:20241113T193000
DTSTAMP:20260423T202301
CREATED:20240320T050120Z
LAST-MODIFIED:20240320T050120Z
UID:10000011-1731522600-1731526200@mortonmn.gov
SUMMARY:City Council Meeting
DESCRIPTION:The City Council holds regular meetings the second Wednesday of each month at 6:30PM at the Morton City Hall. All City Council meetings are recorded.
URL:https://mortonmn.gov/event/city-council-meeting-11/
LOCATION:City Hall\, 220 W 2nd Street\, Morton\, MN\, 56073\, United States
CATEGORIES:City Council Meeting
END:VEVENT
BEGIN:VEVENT
DTSTART;VALUE=DATE:20241102
DTEND;VALUE=DATE:20241103
DTSTAMP:20260423T202301
CREATED:20240320T054839Z
LAST-MODIFIED:20240320T054839Z
UID:10000022-1730505600-1730591999@mortonmn.gov
SUMMARY:Senior Center Fundraiser – Craft Sale
DESCRIPTION:Join the Morton Senior Center for their annual November fundraiser on November 2\, 2024. They will be serving starting at 8 AM and have a bake sale\, craft sale and plant sale! This supports their building fund!
URL:https://mortonmn.gov/event/senior-center-fundraiser-craft-sale/
LOCATION:Morton Senior Center\, Main Street\, Morton\, MN\, 56270\, United States
END:VEVENT
BEGIN:VEVENT
DTSTART;TZID=America/Chicago:20241009T183000
DTEND;TZID=America/Chicago:20241009T193000
DTSTAMP:20260423T202301
CREATED:20240320T050018Z
LAST-MODIFIED:20240320T050018Z
UID:10000010-1728498600-1728502200@mortonmn.gov
SUMMARY:City Council Meeting
DESCRIPTION:The City Council holds regular meetings the second Wednesday of each month at 6:30PM at the Morton City Hall. All City Council meetings are recorded.
URL:https://mortonmn.gov/event/city-council-meeting-10/
LOCATION:City Hall\, 220 W 2nd Street\, Morton\, MN\, 56073\, United States
CATEGORIES:City Council Meeting
END:VEVENT
BEGIN:VEVENT
DTSTART;TZID=America/Chicago:20240911T183000
DTEND;TZID=America/Chicago:20240911T193000
DTSTAMP:20260423T202301
CREATED:20240320T045927Z
LAST-MODIFIED:20240320T045927Z
UID:10000009-1726079400-1726083000@mortonmn.gov
SUMMARY:City Council Meeting
DESCRIPTION:The City Council holds regular meetings the second Wednesday of each month at 6:30PM at the Morton City Hall. All City Council meetings are recorded.
URL:https://mortonmn.gov/event/city-council-meeting-9/
LOCATION:City Hall\, 220 W 2nd Street\, Morton\, MN\, 56073\, United States
CATEGORIES:City Council Meeting
END:VEVENT
BEGIN:VEVENT
DTSTART;TZID=America/Chicago:20240907T160000
DTEND;TZID=America/Chicago:20240907T190000
DTSTAMP:20260423T202301
CREATED:20240320T054415Z
LAST-MODIFIED:20240320T054600Z
UID:10000021-1725724800-1725735600@mortonmn.gov
SUMMARY:Renville County Rib Fest – Morton Firemen Participating
DESCRIPTION:9th Annual Renville County Fire Departments’ Rib Cook-Off\nOlivia American Legion Post 186\nSaturday\, September 7\, 2024\n4-7pm\n$25 tickets \nCast your vote for your favorite ribs! Proceeds go to benefit all participating Renville County Fire Departments! \nGet your ticket to take part in the Rib Tasting and vote for your favorite ribs. Tickets are limited so get yours early from your Morton fire department members.
URL:https://mortonmn.gov/event/renville-county-rib-fest-morton-firemen-participating/
LOCATION:American Legion\, 2450 W Lincoln Ave\, Olivia\, MN\, United States
END:VEVENT
BEGIN:VEVENT
DTSTART;TZID=America/Chicago:20240814T183000
DTEND;TZID=America/Chicago:20240814T193000
DTSTAMP:20260423T202301
CREATED:20240320T045831Z
LAST-MODIFIED:20240320T045831Z
UID:10000008-1723660200-1723663800@mortonmn.gov
SUMMARY:City Council Meeting
DESCRIPTION:The City Council holds regular meetings the second Wednesday of each month at 6:30PM at the Morton City Hall. All City Council meetings are recorded.
URL:https://mortonmn.gov/event/city-council-meeting-8/
LOCATION:City Hall\, 220 W 2nd Street\, Morton\, MN\, 56073\, United States
CATEGORIES:City Council Meeting
END:VEVENT
BEGIN:VEVENT
DTSTART;TZID=America/Chicago:20240803T100000
DTEND;TZID=America/Chicago:20240803T180000
DTSTAMP:20260423T202301
CREATED:20240320T053644Z
LAST-MODIFIED:20240320T054245Z
UID:10000020-1722679200-1722708000@mortonmn.gov
SUMMARY:Morton Open
DESCRIPTION:Morton Open will be held at the Redwood Golf Course. Sign up can be found at The Korner Bar. Only 144 golfers can sign up\, first come first serve. There will be five alternate golfers signed up as well. $60/Golfer with no refunds. \n10:00 AM Shotgun (144 Golfers)
URL:https://mortonmn.gov/event/morton-open/
LOCATION:Redwood Golf Course\, 101 East Oak St\, Redwood Falls\, MN\, 56283\, United States
END:VEVENT
BEGIN:VEVENT
DTSTART;TZID=America/Chicago:20240710T183000
DTEND;TZID=America/Chicago:20240710T193000
DTSTAMP:20260423T202301
CREATED:20240320T045650Z
LAST-MODIFIED:20240320T045650Z
UID:10000007-1720636200-1720639800@mortonmn.gov
SUMMARY:City Council Meeting
DESCRIPTION:The City Council holds regular meetings the second Wednesday of each month at 6:30PM at the Morton City Hall. All City Council meetings are recorded.
URL:https://mortonmn.gov/event/city-council-meeting-7/
LOCATION:City Hall\, 220 W 2nd Street\, Morton\, MN\, 56073\, United States
CATEGORIES:City Council Meeting
END:VEVENT
BEGIN:VEVENT
DTSTART;TZID=America/Chicago:20240704T160000
DTEND;TZID=America/Chicago:20240704T190000
DTSTAMP:20260423T202301
CREATED:20240320T053409Z
LAST-MODIFIED:20240501T145420Z
UID:10000019-1720108800-1720119600@mortonmn.gov
SUMMARY:Fourth Of July Celebration\, Fireman's Pork Chop Feed
DESCRIPTION:Fourth of July Celebration planning are still in the works for the 2024 summer. Stay tuned as more details are shared about the event. If you are interested in being a vendor\, contact Pam at the City Office. \nThe Annual Fireman’s Pork Chop Feed will be held during the celebration on July 4 from 4pm – 7pm.
URL:https://mortonmn.gov/event/fourth-of-july-celebration-firemans-pork-chop-feed/
LOCATION:MN
ATTACH;FMTTYPE=image/jpeg:https://mortonmn.gov/wp-content/uploads/2024/04/Morton-MN-fireworks.jpg
END:VEVENT
END:VCALENDAR